BEGIN:VCALENDAR
VERSION:2.0
PRODID:-// - ECPv6.13.2.1//NONSGML v1.0//EN
CALSCALE:GREGORIAN
METHOD:PUBLISH
X-ORIGINAL-URL:https://snoco4-hhorse.com
X-WR-CALDESC:Events for 
REFRESH-INTERVAL;VALUE=DURATION:PT1H
X-Robots-Tag:noindex
X-PUBLISHED-TTL:PT1H
BEGIN:VTIMEZONE
TZID:UTC
BEGIN:STANDARD
TZOFFSETFROM:+0000
TZOFFSETTO:+0000
TZNAME:UTC
DTSTART:20250101T000000
END:STANDARD
END:VTIMEZONE
BEGIN:VEVENT
DTSTART;TZID=UTC:20250814T183000
DTEND;TZID=UTC:20250814T200000
DTSTAMP:20260424T100305
CREATED:20250404T071544Z
LAST-MODIFIED:20250404T071544Z
UID:5604-1755196200-1755201600@snoco4-hhorse.com
SUMMARY:Horse Program Meeting
DESCRIPTION:Watch Facebook for ZOOM link.
URL:https://snoco4-hhorse.com/event/horse-program-meeting-10/
LOCATION:Snohomish County Extension Office\, 600 128th St SE\, Everett\, WA\, WA\, 98208
END:VEVENT
BEGIN:VEVENT
DTSTART;TZID=UTC:20250817T123000
DTEND;TZID=UTC:20250817T143000
DTSTAMP:20260424T100305
CREATED:20250602T023108Z
LAST-MODIFIED:20250602T023108Z
UID:5644-1755433800-1755441000@snoco4-hhorse.com
SUMMARY:Groom Squad Contest- Fair
DESCRIPTION:
URL:https://snoco4-hhorse.com/event/groom-squad-contest-fair/
LOCATION:Evergreen State Horse Park (Fairgrounds)\, 14405 179th Ave SE\, Monroe\, WA\, 98272
END:VEVENT
BEGIN:VEVENT
DTSTART;VALUE=DATE:20250818
DTEND;VALUE=DATE:20250819
DTSTAMP:20260424T100305
CREATED:20250602T023201Z
LAST-MODIFIED:20250602T023201Z
UID:5646-1755475200-1755561599@snoco4-hhorse.com
SUMMARY:Horse Shop and Poster Check-in
DESCRIPTION:
URL:https://snoco4-hhorse.com/event/horse-shop-and-poster-check-in/
LOCATION:Evergreen State Horse Park (Fairgrounds)\, 14405 179th Ave SE\, Monroe\, WA\, 98272
END:VEVENT
BEGIN:VEVENT
DTSTART;VALUE=DATE:20250820
DTEND;VALUE=DATE:20250824
DTSTAMP:20260424T100305
CREATED:20250602T023311Z
LAST-MODIFIED:20250602T023311Z
UID:5648-1755648000-1755993599@snoco4-hhorse.com
SUMMARY:FAIR- Senior Section
DESCRIPTION:
URL:https://snoco4-hhorse.com/event/fair-senior-section/
LOCATION:Evergreen State Horse Park (Fairgrounds)\, 14405 179th Ave SE\, Monroe\, WA\, 98272
END:VEVENT
BEGIN:VEVENT
DTSTART;VALUE=DATE:20250823
DTEND;VALUE=DATE:20250826
DTSTAMP:20260424T100305
CREATED:20250602T023358Z
LAST-MODIFIED:20250602T023358Z
UID:5650-1755907200-1756166399@snoco4-hhorse.com
SUMMARY:FAIR- Juniors and Western Games Sections
DESCRIPTION:
URL:https://snoco4-hhorse.com/event/fair-juniors-and-western-games-sections/
LOCATION:Evergreen State Horse Park (Fairgrounds)\, 14405 179th Ave SE\, Monroe\, WA\, 98272
END:VEVENT
BEGIN:VEVENT
DTSTART;VALUE=DATE:20250825
DTEND;VALUE=DATE:20250829
DTSTAMP:20260424T100305
CREATED:20250602T023442Z
LAST-MODIFIED:20250602T023442Z
UID:5652-1756080000-1756425599@snoco4-hhorse.com
SUMMARY:FAIR- Intermediate Section
DESCRIPTION:
URL:https://snoco4-hhorse.com/event/fair-intermediate-section/
LOCATION:Evergreen State Horse Park (Fairgrounds)\, 14405 179th Ave SE\, Monroe\, WA\, 98272
END:VEVENT
BEGIN:VEVENT
DTSTART;TZID=UTC:20250827T180000
DTEND;TZID=UTC:20250827T200000
DTSTAMP:20260424T100305
CREATED:20250602T023558Z
LAST-MODIFIED:20250602T023558Z
UID:5654-1756317600-1756324800@snoco4-hhorse.com
SUMMARY:4H Barn Dance
DESCRIPTION:
URL:https://snoco4-hhorse.com/event/4h-barn-dance/
LOCATION:Evergreen State Horse Park (Fairgrounds)\, 14405 179th Ave SE\, Monroe\, WA\, 98272
END:VEVENT
BEGIN:VEVENT
DTSTART;VALUE=DATE:20250828
DTEND;VALUE=DATE:20250829
DTSTAMP:20260424T100305
CREATED:20250602T023628Z
LAST-MODIFIED:20250602T023628Z
UID:5656-1756339200-1756425599@snoco4-hhorse.com
SUMMARY:Horse Shop and Poster Pickup
DESCRIPTION:
URL:https://snoco4-hhorse.com/event/horse-shop-and-poster-pickup/
LOCATION:Evergreen State Horse Park (Fairgrounds)\, 14405 179th Ave SE\, Monroe\, WA\, 98272
END:VEVENT
END:VCALENDAR