BEGIN:VCALENDAR
VERSION:2.0
PRODID:-// - ECPv6.13.2.1//NONSGML v1.0//EN
CALSCALE:GREGORIAN
METHOD:PUBLISH
X-ORIGINAL-URL:https://snoco4-hhorse.com
X-WR-CALDESC:Events for 
REFRESH-INTERVAL;VALUE=DURATION:PT1H
X-Robots-Tag:noindex
X-PUBLISHED-TTL:PT1H
BEGIN:VTIMEZONE
TZID:UTC
BEGIN:STANDARD
TZOFFSETFROM:+0000
TZOFFSETTO:+0000
TZNAME:UTC
DTSTART:20250101T000000
END:STANDARD
END:VTIMEZONE
BEGIN:VEVENT
DTSTART;VALUE=DATE:20250530
DTEND;VALUE=DATE:20250602
DTSTAMP:20260424T132842
CREATED:20240602T133327Z
LAST-MODIFIED:20240602T133327Z
UID:5156-1748563200-1748822399@snoco4-hhorse.com
SUMMARY:Summer Performance Show
DESCRIPTION:
URL:https://snoco4-hhorse.com/event/summer-performance-show/
LOCATION:Evergreen State Horse Park (Fairgrounds)\, 14405 179th Ave SE\, Monroe\, WA\, 98272
END:VEVENT
BEGIN:VEVENT
DTSTART;VALUE=DATE:20250608
DTEND;VALUE=DATE:20250609
DTSTAMP:20260424T132842
CREATED:20250503T174706Z
LAST-MODIFIED:20250503T174706Z
UID:5629-1749340800-1749427199@snoco4-hhorse.com
SUMMARY:Spring Western Gaming Show
DESCRIPTION:
URL:https://snoco4-hhorse.com/event/spring-western-gaming-show/
LOCATION:Stanwood Equestrian Center\, 28119 Old Pacific Hwy\, Stanwood\, WA\, 98292\, United States
END:VEVENT
BEGIN:VEVENT
DTSTART;TZID=UTC:20250609T180000
DTEND;TZID=UTC:20250609T200000
DTSTAMP:20260424T132842
CREATED:20250404T071045Z
LAST-MODIFIED:20250404T071045Z
UID:5596-1749492000-1749499200@snoco4-hhorse.com
SUMMARY:Horse Judging #4
DESCRIPTION:Registration and orientation for newer members is at 6:00. Classes start at 6:30.
URL:https://snoco4-hhorse.com/event/horse-judging-4/
LOCATION:Evergreen State Horse Park (Fairgrounds)\, 14405 179th Ave SE\, Monroe\, WA\, 98272
END:VEVENT
BEGIN:VEVENT
DTSTART;TZID=UTC:20250610T183000
DTEND;TZID=UTC:20250610T193000
DTSTAMP:20260424T132842
CREATED:20250602T022355Z
LAST-MODIFIED:20250602T022355Z
UID:5637-1749580200-1749583800@snoco4-hhorse.com
SUMMARY:Prepare for Fair Workshop
DESCRIPTION:Watch Facebook for ZOOM link.
URL:https://snoco4-hhorse.com/event/prepare-for-fair-workshop/
LOCATION:Good Shepherd Lutheran Church\, 5511 64th Street SE\, Snohomish\, WA\, 98290\, United States
END:VEVENT
BEGIN:VEVENT
DTSTART;VALUE=DATE:20250615
DTEND;VALUE=DATE:20250616
DTSTAMP:20260424T132842
CREATED:20250503T174827Z
LAST-MODIFIED:20250503T174827Z
UID:5631-1749945600-1750031999@snoco4-hhorse.com
SUMMARY:Spring Dressage & Western Dressage Show
DESCRIPTION:
URL:https://snoco4-hhorse.com/event/spring-dressage-western-dressage-show/
LOCATION:Hollywood Hills Saddle Club Arena\, 15205 NE 172nd Street\, Woodinville\, WA\, 98072\, United States
END:VEVENT
BEGIN:VEVENT
DTSTART;TZID=UTC:20250619T183000
DTEND;TZID=UTC:20250619T200000
DTSTAMP:20260424T132842
CREATED:20250404T071154Z
LAST-MODIFIED:20250404T071154Z
UID:5598-1750357800-1750363200@snoco4-hhorse.com
SUMMARY:Horse Program Meeting
DESCRIPTION:Watch Facebook for ZOOM link.
URL:https://snoco4-hhorse.com/event/horse-program-meeting-8/
LOCATION:Good Shepherd Lutheran Church\, 5511 64th Street SE\, Snohomish\, WA\, 98290\, United States
END:VEVENT
BEGIN:VEVENT
DTSTART;VALUE=DATE:20250621
DTEND;VALUE=DATE:20250622
DTSTAMP:20260424T132842
CREATED:20250602T022512Z
LAST-MODIFIED:20250602T022512Z
UID:5639-1750464000-1750550399@snoco4-hhorse.com
SUMMARY:Summer Ranch Horse Show
DESCRIPTION:
URL:https://snoco4-hhorse.com/event/summer-ranch-horse-show-2/
LOCATION:Hollywood Hills Saddle Club Arena\, 15205 NE 172nd Street\, Woodinville\, WA\, 98072\, United States
END:VEVENT
BEGIN:VEVENT
DTSTART;VALUE=DATE:20250626
DTEND;VALUE=DATE:20250630
DTSTAMP:20260424T132842
CREATED:20250404T071301Z
LAST-MODIFIED:20250404T071301Z
UID:5600-1750896000-1751241599@snoco4-hhorse.com
SUMMARY:WA State Junior Horse Show and Clinic
DESCRIPTION:
URL:https://snoco4-hhorse.com/event/wa-state-junior-horse-show-and-clinic/
LOCATION:Grant County Fairgrounds\, Moses Lake\, Moses Lake\, Washington
END:VEVENT
END:VCALENDAR