BEGIN:VCALENDAR
VERSION:2.0
PRODID:-// - ECPv6.13.2.1//NONSGML v1.0//EN
CALSCALE:GREGORIAN
METHOD:PUBLISH
X-ORIGINAL-URL:https://snoco4-hhorse.com
X-WR-CALDESC:Events for 
REFRESH-INTERVAL;VALUE=DURATION:PT1H
X-Robots-Tag:noindex
X-PUBLISHED-TTL:PT1H
BEGIN:VTIMEZONE
TZID:UTC
BEGIN:STANDARD
TZOFFSETFROM:+0000
TZOFFSETTO:+0000
TZNAME:UTC
DTSTART:20250101T000000
END:STANDARD
END:VTIMEZONE
BEGIN:VEVENT
DTSTART;TZID=UTC:20250426T100000
DTEND;TZID=UTC:20250426T120000
DTSTAMP:20260424T075338
CREATED:20250313T065643Z
LAST-MODIFIED:20250313T065643Z
UID:5563-1745661600-1745668800@snoco4-hhorse.com
SUMMARY:Groom Squad Competition
DESCRIPTION:
URL:https://snoco4-hhorse.com/event/groom-squad-competition/
LOCATION:Lomara Equestrian Center
END:VEVENT
END:VCALENDAR