BEGIN:VCALENDAR
VERSION:2.0
PRODID:-// - ECPv6.13.2.1//NONSGML v1.0//EN
CALSCALE:GREGORIAN
METHOD:PUBLISH
X-ORIGINAL-URL:https://snoco4-hhorse.com
X-WR-CALDESC:Events for 
REFRESH-INTERVAL;VALUE=DURATION:PT1H
X-Robots-Tag:noindex
X-PUBLISHED-TTL:PT1H
BEGIN:VTIMEZONE
TZID:UTC
BEGIN:STANDARD
TZOFFSETFROM:+0000
TZOFFSETTO:+0000
TZNAME:UTC
DTSTART:20260101T000000
END:STANDARD
END:VTIMEZONE
BEGIN:VEVENT
DTSTART;VALUE=DATE:20260626
DTEND;VALUE=DATE:20260629
DTSTAMP:20260423T221111
CREATED:20260210T041152Z
LAST-MODIFIED:20260210T041152Z
UID:5982-1782432000-1782691199@snoco4-hhorse.com
SUMMARY:Washington State Junior Horse Show
DESCRIPTION:
URL:https://snoco4-hhorse.com/event/washington-state-junior-horse-show/
LOCATION:Grant County Fairgrounds\, Moses Lake\, Moses Lake\, Washington
END:VEVENT
END:VCALENDAR