BEGIN:VCALENDAR
VERSION:2.0
PRODID:-// - ECPv6.13.2.1//NONSGML v1.0//EN
CALSCALE:GREGORIAN
METHOD:PUBLISH
X-ORIGINAL-URL:https://snoco4-hhorse.com
X-WR-CALDESC:Events for 
REFRESH-INTERVAL;VALUE=DURATION:PT1H
X-Robots-Tag:noindex
X-PUBLISHED-TTL:PT1H
BEGIN:VTIMEZONE
TZID:UTC
BEGIN:STANDARD
TZOFFSETFROM:+0000
TZOFFSETTO:+0000
TZNAME:UTC
DTSTART:20260101T000000
END:STANDARD
END:VTIMEZONE
BEGIN:VEVENT
DTSTART;TZID=UTC:20260320T183000
DTEND;TZID=UTC:20260320T200000
DTSTAMP:20260423T220918
CREATED:20260210T035156Z
LAST-MODIFIED:20260210T035156Z
UID:5946-1774031400-1774036800@snoco4-hhorse.com
SUMMARY:Groom Squad Contest
DESCRIPTION:
URL:https://snoco4-hhorse.com/event/groom-squad-contest/
LOCATION:Evergreen State Horse Park (Fairgrounds)\, 14405 179th Ave SE\, Monroe\, WA\, 98272
END:VEVENT
BEGIN:VEVENT
DTSTART;VALUE=DATE:20260321
DTEND;VALUE=DATE:20260322
DTSTAMP:20260423T220918
CREATED:20260210T035309Z
LAST-MODIFIED:20260210T035309Z
UID:5948-1774051200-1774137599@snoco4-hhorse.com
SUMMARY:Spring Performance Show- Western and Over Fences
DESCRIPTION:
URL:https://snoco4-hhorse.com/event/spring-performance-show-western-and-over-fences/
LOCATION:Evergreen State Horse Park (Fairgrounds)\, 14405 179th Ave SE\, Monroe\, WA\, 98272
END:VEVENT
BEGIN:VEVENT
DTSTART;VALUE=DATE:20260322
DTEND;VALUE=DATE:20260323
DTSTAMP:20260423T220918
CREATED:20260210T035351Z
LAST-MODIFIED:20260210T035351Z
UID:5951-1774137600-1774223999@snoco4-hhorse.com
SUMMARY:Spring Performance Show- English
DESCRIPTION:
URL:https://snoco4-hhorse.com/event/spring-performance-show-english/
LOCATION:Evergreen State Horse Park (Fairgrounds)\, 14405 179th Ave SE\, Monroe\, WA\, 98272
END:VEVENT
BEGIN:VEVENT
DTSTART;TZID=UTC:20260416T183000
DTEND;TZID=UTC:20260416T200000
DTSTAMP:20260423T220918
CREATED:20260210T035632Z
LAST-MODIFIED:20260210T035632Z
UID:5953-1776364200-1776369600@snoco4-hhorse.com
SUMMARY:Horse Program Meeting
DESCRIPTION:Watch Facebook for the link.
URL:https://snoco4-hhorse.com/event/horse-program-meeting-3/
LOCATION:Good Shepherd Lutheran Church\, 5511 64th Street SE\, Snohomish\, WA\, 98290\, United States
END:VEVENT
BEGIN:VEVENT
DTSTART;VALUE=DATE:20260418
DTEND;VALUE=DATE:20260419
DTSTAMP:20260423T220918
CREATED:20260210T035720Z
LAST-MODIFIED:20260210T035720Z
UID:5955-1776470400-1776556799@snoco4-hhorse.com
SUMMARY:Equine-a-rama and Super Saturday
DESCRIPTION:
URL:https://snoco4-hhorse.com/event/equine-a-rama-and-super-saturday/
LOCATION:Evergreen Fairgrounds 4-H Building\, Monroe\, WA\, 98272\, United States
END:VEVENT
BEGIN:VEVENT
DTSTART;VALUE=DATE:20260419
DTEND;VALUE=DATE:20260420
DTSTAMP:20260423T220918
CREATED:20260210T035901Z
LAST-MODIFIED:20260210T035901Z
UID:5957-1776556800-1776643199@snoco4-hhorse.com
SUMMARY:Spring Western Games Show
DESCRIPTION:
URL:https://snoco4-hhorse.com/event/spring-western-games-show/
LOCATION:BLT Arena\, Granite Falls
END:VEVENT
BEGIN:VEVENT
DTSTART;VALUE=DATE:20260425
DTEND;VALUE=DATE:20260426
DTSTAMP:20260423T220918
CREATED:20260210T040013Z
LAST-MODIFIED:20260210T040013Z
UID:5960-1777075200-1777161599@snoco4-hhorse.com
SUMMARY:County 4H Equine Presentations Contest
DESCRIPTION:COUNTY 4-H EQUINE PRESENTATIONS CONTEST –(Intermediates and Seniors) \nPre-Registration required – Watch Facebook \nTime TBD Good Shepherd Lutheran Church\, 5511 64th ST SE\, Snohomish
URL:https://snoco4-hhorse.com/event/county-4h-equine-presentations-contest/
LOCATION:Good Shepherd Lutheran Church\, 5511 64th Street SE\, Snohomish\, WA\, 98290\, United States
END:VEVENT
BEGIN:VEVENT
DTSTART;VALUE=DATE:20260502
DTEND;VALUE=DATE:20260503
DTSTAMP:20260423T220918
CREATED:20260210T040123Z
LAST-MODIFIED:20260210T040123Z
UID:5962-1777680000-1777766399@snoco4-hhorse.com
SUMMARY:State 4H Hippology Contest
DESCRIPTION:
URL:https://snoco4-hhorse.com/event/state-4h-hippology-contest/
LOCATION:Grant County Fairgrounds\, Moses Lake\, Moses Lake\, Washington
END:VEVENT
BEGIN:VEVENT
DTSTART;VALUE=DATE:20260503
DTEND;VALUE=DATE:20260504
DTSTAMP:20260423T220918
CREATED:20260210T040211Z
LAST-MODIFIED:20260210T040211Z
UID:5964-1777766400-1777852799@snoco4-hhorse.com
SUMMARY:State 4H Horse Bowl Contest
DESCRIPTION:
URL:https://snoco4-hhorse.com/event/state-4h-horse-bowl-contest/
LOCATION:Grant County Fairgrounds\, Moses Lake\, Moses Lake\, Washington
END:VEVENT
BEGIN:VEVENT
DTSTART;VALUE=DATE:20260516
DTEND;VALUE=DATE:20260517
DTSTAMP:20260423T220918
CREATED:20260210T040346Z
LAST-MODIFIED:20260210T040346Z
UID:5966-1778889600-1778975999@snoco4-hhorse.com
SUMMARY:State 4H Equine Presentations Virtual Contest
DESCRIPTION:Seniors and intermediates- will be virtual
URL:https://snoco4-hhorse.com/event/state-4h-equine-presentations-virtual-contest/
LOCATION:Washington
END:VEVENT
BEGIN:VEVENT
DTSTART;TZID=UTC:20260521T183000
DTEND;TZID=UTC:20260521T200000
DTSTAMP:20260423T220918
CREATED:20260210T040447Z
LAST-MODIFIED:20260210T040447Z
UID:5968-1779388200-1779393600@snoco4-hhorse.com
SUMMARY:Horse Program Meeting
DESCRIPTION:Watch Facebook for the link.
URL:https://snoco4-hhorse.com/event/horse-program-meeting-12/
LOCATION:Good Shepherd Lutheran Church\, 5511 64th Street SE\, Snohomish\, WA\, 98290\, United States
END:VEVENT
BEGIN:VEVENT
DTSTART;TZID=UTC:20260529T180000
DTEND;TZID=UTC:20260529T210000
DTSTAMP:20260423T220918
CREATED:20260210T040654Z
LAST-MODIFIED:20260210T040654Z
UID:5970-1780077600-1780088400@snoco4-hhorse.com
SUMMARY:Summer Performance Show- Over Fences
DESCRIPTION:
URL:https://snoco4-hhorse.com/event/summer-performance-show-over-fences/
LOCATION:Evergreen State Horse Park (Fairgrounds)\, 14405 179th Ave SE\, Monroe\, WA\, 98272
END:VEVENT
BEGIN:VEVENT
DTSTART;VALUE=DATE:20260530
DTEND;VALUE=DATE:20260531
DTSTAMP:20260423T220918
CREATED:20260210T040741Z
LAST-MODIFIED:20260210T040741Z
UID:5972-1780099200-1780185599@snoco4-hhorse.com
SUMMARY:Summer Performance Show- English
DESCRIPTION:
URL:https://snoco4-hhorse.com/event/summer-performance-show-english/
LOCATION:Evergreen State Horse Park (Fairgrounds)\, 14405 179th Ave SE\, Monroe\, WA\, 98272
END:VEVENT
BEGIN:VEVENT
DTSTART;TZID=UTC:20260530T183000
DTEND;TZID=UTC:20260530T200000
DTSTAMP:20260423T220918
CREATED:20260210T040815Z
LAST-MODIFIED:20260210T040815Z
UID:5974-1780165800-1780171200@snoco4-hhorse.com
SUMMARY:Groom Squad Contest
DESCRIPTION:
URL:https://snoco4-hhorse.com/event/groom-squad-contest-2/
LOCATION:Evergreen State Horse Park (Fairgrounds)\, 14405 179th Ave SE\, Monroe\, WA\, 98272
END:VEVENT
BEGIN:VEVENT
DTSTART;VALUE=DATE:20260531
DTEND;VALUE=DATE:20260601
DTSTAMP:20260423T220918
CREATED:20260210T040847Z
LAST-MODIFIED:20260210T040847Z
UID:5976-1780185600-1780271999@snoco4-hhorse.com
SUMMARY:Summer Performance Show- Western
DESCRIPTION:
URL:https://snoco4-hhorse.com/event/summer-performance-show-western/
LOCATION:Evergreen State Horse Park (Fairgrounds)\, 14405 179th Ave SE\, Monroe\, WA\, 98272
END:VEVENT
BEGIN:VEVENT
DTSTART;VALUE=DATE:20260614
DTEND;VALUE=DATE:20260615
DTSTAMP:20260423T220918
CREATED:20260210T040953Z
LAST-MODIFIED:20260210T040953Z
UID:5978-1781395200-1781481599@snoco4-hhorse.com
SUMMARY:Summer Western Games Show
DESCRIPTION:
URL:https://snoco4-hhorse.com/event/summer-western-games-show-2/
LOCATION:Stanwood Equestrian Center\, 28119 Old Pacific Hwy\, Stanwood\, WA\, 98292\, United States
END:VEVENT
BEGIN:VEVENT
DTSTART;TZID=UTC:20260618T183000
DTEND;TZID=UTC:20260618T200000
DTSTAMP:20260423T220918
CREATED:20260210T041101Z
LAST-MODIFIED:20260210T041101Z
UID:5980-1781807400-1781812800@snoco4-hhorse.com
SUMMARY:Horse Program Meeting
DESCRIPTION:Watch Facebook for link
URL:https://snoco4-hhorse.com/event/horse-program-meeting-13/
LOCATION:Good Shepherd Lutheran Church\, 5511 64th Street SE\, Snohomish\, WA\, 98290\, United States
END:VEVENT
BEGIN:VEVENT
DTSTART;VALUE=DATE:20260626
DTEND;VALUE=DATE:20260629
DTSTAMP:20260423T220918
CREATED:20260210T041152Z
LAST-MODIFIED:20260210T041152Z
UID:5982-1782432000-1782691199@snoco4-hhorse.com
SUMMARY:Washington State Junior Horse Show
DESCRIPTION:
URL:https://snoco4-hhorse.com/event/washington-state-junior-horse-show/
LOCATION:Grant County Fairgrounds\, Moses Lake\, Moses Lake\, Washington
END:VEVENT
END:VCALENDAR