BEGIN:VCALENDAR
VERSION:2.0
PRODID:-// - ECPv6.13.2.1//NONSGML v1.0//EN
CALSCALE:GREGORIAN
METHOD:PUBLISH
X-ORIGINAL-URL:https://snoco4-hhorse.com
X-WR-CALDESC:Events for 
REFRESH-INTERVAL;VALUE=DURATION:PT1H
X-Robots-Tag:noindex
X-PUBLISHED-TTL:PT1H
BEGIN:VTIMEZONE
TZID:UTC
BEGIN:STANDARD
TZOFFSETFROM:+0000
TZOFFSETTO:+0000
TZNAME:UTC
DTSTART:20250101T000000
END:STANDARD
END:VTIMEZONE
BEGIN:VEVENT
DTSTART;VALUE=DATE:20260419
DTEND;VALUE=DATE:20260420
DTSTAMP:20260423T232813
CREATED:20260210T035901Z
LAST-MODIFIED:20260210T035901Z
UID:5957-1776556800-1776643199@snoco4-hhorse.com
SUMMARY:Spring Western Games Show
DESCRIPTION:
URL:https://snoco4-hhorse.com/event/spring-western-games-show/
LOCATION:BLT Arena\, Granite Falls
END:VEVENT
BEGIN:VEVENT
DTSTART;VALUE=DATE:20260418
DTEND;VALUE=DATE:20260419
DTSTAMP:20260423T232813
CREATED:20260210T035720Z
LAST-MODIFIED:20260210T035720Z
UID:5955-1776470400-1776556799@snoco4-hhorse.com
SUMMARY:Equine-a-rama and Super Saturday
DESCRIPTION:
URL:https://snoco4-hhorse.com/event/equine-a-rama-and-super-saturday/
LOCATION:Evergreen Fairgrounds 4-H Building\, Monroe\, WA\, 98272\, United States
END:VEVENT
BEGIN:VEVENT
DTSTART;TZID=UTC:20260416T183000
DTEND;TZID=UTC:20260416T200000
DTSTAMP:20260423T232813
CREATED:20260210T035632Z
LAST-MODIFIED:20260210T035632Z
UID:5953-1776364200-1776369600@snoco4-hhorse.com
SUMMARY:Horse Program Meeting
DESCRIPTION:Watch Facebook for the link.
URL:https://snoco4-hhorse.com/event/horse-program-meeting-3/
LOCATION:Good Shepherd Lutheran Church\, 5511 64th Street SE\, Snohomish\, WA\, 98290\, United States
END:VEVENT
BEGIN:VEVENT
DTSTART;VALUE=DATE:20260322
DTEND;VALUE=DATE:20260323
DTSTAMP:20260423T232813
CREATED:20260210T035351Z
LAST-MODIFIED:20260210T035351Z
UID:5951-1774137600-1774223999@snoco4-hhorse.com
SUMMARY:Spring Performance Show- English
DESCRIPTION:
URL:https://snoco4-hhorse.com/event/spring-performance-show-english/
LOCATION:Evergreen State Horse Park (Fairgrounds)\, 14405 179th Ave SE\, Monroe\, WA\, 98272
END:VEVENT
BEGIN:VEVENT
DTSTART;VALUE=DATE:20260321
DTEND;VALUE=DATE:20260322
DTSTAMP:20260423T232813
CREATED:20260210T035309Z
LAST-MODIFIED:20260210T035309Z
UID:5948-1774051200-1774137599@snoco4-hhorse.com
SUMMARY:Spring Performance Show- Western and Over Fences
DESCRIPTION:
URL:https://snoco4-hhorse.com/event/spring-performance-show-western-and-over-fences/
LOCATION:Evergreen State Horse Park (Fairgrounds)\, 14405 179th Ave SE\, Monroe\, WA\, 98272
END:VEVENT
BEGIN:VEVENT
DTSTART;TZID=UTC:20260320T183000
DTEND;TZID=UTC:20260320T200000
DTSTAMP:20260423T232813
CREATED:20260210T035156Z
LAST-MODIFIED:20260210T035156Z
UID:5946-1774031400-1774036800@snoco4-hhorse.com
SUMMARY:Groom Squad Contest
DESCRIPTION:
URL:https://snoco4-hhorse.com/event/groom-squad-contest/
LOCATION:Evergreen State Horse Park (Fairgrounds)\, 14405 179th Ave SE\, Monroe\, WA\, 98272
END:VEVENT
BEGIN:VEVENT
DTSTART;TZID=UTC:20260319T183000
DTEND;TZID=UTC:20260319T200000
DTSTAMP:20260423T232813
CREATED:20260210T035058Z
LAST-MODIFIED:20260210T035058Z
UID:5944-1773945000-1773950400@snoco4-hhorse.com
SUMMARY:Horse Program Meeting
DESCRIPTION:Watch Facebook for the link.
URL:https://snoco4-hhorse.com/event/horse-program-meeting-2/
LOCATION:Good Shepherd Lutheran Church\, 5511 64th Street SE\, Snohomish\, WA\, 98290\, United States
END:VEVENT
BEGIN:VEVENT
DTSTART;TZID=UTC:20260311T180000
DTEND;TZID=UTC:20260311T200000
DTSTAMP:20260423T232813
CREATED:20260210T034924Z
LAST-MODIFIED:20260210T034924Z
UID:5942-1773252000-1773259200@snoco4-hhorse.com
SUMMARY:Ride Night
DESCRIPTION:
URL:https://snoco4-hhorse.com/event/ride-night-9/
LOCATION:Evergreen State Horse Park (Fairgrounds)\, 14405 179th Ave SE\, Monroe\, WA\, 98272
END:VEVENT
BEGIN:VEVENT
DTSTART;VALUE=DATE:20260308
DTEND;VALUE=DATE:20260309
DTSTAMP:20260423T232813
CREATED:20251121T031432Z
LAST-MODIFIED:20251121T031432Z
UID:5907-1772928000-1773014399@snoco4-hhorse.com
SUMMARY:Tack Sale Consignment Pick Up and Little Tack Sale
DESCRIPTION:
URL:https://snoco4-hhorse.com/event/tack-sale-consignment-pick-up-and-little-tack-sale/
LOCATION:Evergreen Fairgrounds Event Center\, Monroe\, WA\, 98272\, United States
END:VEVENT
BEGIN:VEVENT
DTSTART;VALUE=DATE:20260307
DTEND;VALUE=DATE:20260308
DTSTAMP:20260423T232813
CREATED:20251121T031307Z
LAST-MODIFIED:20251121T031307Z
UID:5905-1772841600-1772927999@snoco4-hhorse.com
SUMMARY:Tack Sale
DESCRIPTION:
URL:https://snoco4-hhorse.com/event/tack-sale-2/
LOCATION:Evergreen Fairgrounds Event Center\, Monroe\, WA\, 98272\, United States
END:VEVENT
BEGIN:VEVENT
DTSTART;VALUE=DATE:20260305
DTEND;VALUE=DATE:20260307
DTSTAMP:20260423T232813
CREATED:20251121T031153Z
LAST-MODIFIED:20251121T031153Z
UID:5903-1772668800-1772841599@snoco4-hhorse.com
SUMMARY:Tack Sale Consignments
DESCRIPTION:
URL:https://snoco4-hhorse.com/event/tack-sale-consignments/
LOCATION:Evergreen Fairgrounds Event Center\, Monroe\, WA\, 98272\, United States
END:VEVENT
BEGIN:VEVENT
DTSTART;VALUE=DATE:20260302
DTEND;VALUE=DATE:20260305
DTSTAMP:20260423T232813
CREATED:20251121T031114Z
LAST-MODIFIED:20251121T031114Z
UID:5901-1772409600-1772668799@snoco4-hhorse.com
SUMMARY:Tack Sale Set Up
DESCRIPTION:
URL:https://snoco4-hhorse.com/event/tack-sale-set-up/
LOCATION:Evergreen Fairgrounds Event Center\, Monroe\, WA\, 98272\, United States
END:VEVENT
BEGIN:VEVENT
DTSTART;TZID=UTC:20260227T180000
DTEND;TZID=UTC:20260227T200000
DTSTAMP:20260423T232813
CREATED:20251121T031014Z
LAST-MODIFIED:20251121T031014Z
UID:5899-1772215200-1772222400@snoco4-hhorse.com
SUMMARY:Hippology Contest #3
DESCRIPTION:
URL:https://snoco4-hhorse.com/event/hippology-contest-3/
LOCATION:Evergreen Fairgrounds Display Hall
END:VEVENT
BEGIN:VEVENT
DTSTART;TZID=UTC:20260225T180000
DTEND;TZID=UTC:20260225T200000
DTSTAMP:20260423T232813
CREATED:20251121T030901Z
LAST-MODIFIED:20251121T030901Z
UID:5897-1772042400-1772049600@snoco4-hhorse.com
SUMMARY:Ride Night
DESCRIPTION:
URL:https://snoco4-hhorse.com/event/ride-night-8/
LOCATION:Evergreen State Horse Park (Fairgrounds)\, 14405 179th Ave SE\, Monroe\, WA\, 98272
END:VEVENT
BEGIN:VEVENT
DTSTART;VALUE=DATE:20260220
DTEND;VALUE=DATE:20260223
DTSTAMP:20260423T232813
CREATED:20260210T034732Z
LAST-MODIFIED:20260210T034732Z
UID:5940-1771545600-1771804799@snoco4-hhorse.com
SUMMARY:Model Train Show- 4H Council Fundraiser
DESCRIPTION:Please volunteer to help out; look for the Sign Up Genius on the Facebook page.
URL:https://snoco4-hhorse.com/event/model-train-show-4h-council-fundraiser/
LOCATION:Evergreen Fairgrounds Event Center\, Monroe\, WA\, 98272\, United States
END:VEVENT
BEGIN:VEVENT
DTSTART;TZID=UTC:20260219T183000
DTEND;TZID=UTC:20260219T193000
DTSTAMP:20260423T232813
CREATED:20251121T030819Z
LAST-MODIFIED:20251121T030819Z
UID:5895-1771525800-1771529400@snoco4-hhorse.com
SUMMARY:Horse Program Meeting
DESCRIPTION:
URL:https://snoco4-hhorse.com/event/horse-program-meeting-11/
LOCATION:Good Shepherd Lutheran Church\, 5511 64th Street SE\, Snohomish\, WA\, 98290\, United States
END:VEVENT
BEGIN:VEVENT
DTSTART;TZID=UTC:20260213T180000
DTEND;TZID=UTC:20260213T200000
DTSTAMP:20260423T232813
CREATED:20251121T030558Z
LAST-MODIFIED:20251121T030558Z
UID:5888-1771005600-1771012800@snoco4-hhorse.com
SUMMARY:Hippology Contest #2
DESCRIPTION:
URL:https://snoco4-hhorse.com/event/hippology-contest-2/
LOCATION:Evergreen Fairgrounds Display Hall
END:VEVENT
BEGIN:VEVENT
DTSTART;TZID=UTC:20260211T180000
DTEND;TZID=UTC:20260211T200000
DTSTAMP:20260423T232813
CREATED:20251121T030700Z
LAST-MODIFIED:20251121T030700Z
UID:5891-1770832800-1770840000@snoco4-hhorse.com
SUMMARY:Ride Night
DESCRIPTION:
URL:https://snoco4-hhorse.com/event/ride-night-7/
LOCATION:Evergreen Fairgrounds 4-H Building\, Monroe\, WA\, 98272\, United States
END:VEVENT
BEGIN:VEVENT
DTSTART;VALUE=DATE:20260201
DTEND;VALUE=DATE:20260202
DTSTAMP:20260423T232813
CREATED:20251121T030403Z
LAST-MODIFIED:20251121T030403Z
UID:5886-1769904000-1769990399@snoco4-hhorse.com
SUMMARY:Winter Dressage/Western Dressage Show
DESCRIPTION:
URL:https://snoco4-hhorse.com/event/winter-dressage-western-dressage-show/
LOCATION:Evergreen State Horse Park (Fairgrounds)\, 14405 179th Ave SE\, Monroe\, WA\, 98272
END:VEVENT
BEGIN:VEVENT
DTSTART;VALUE=DATE:20260131
DTEND;VALUE=DATE:20260201
DTSTAMP:20260423T232813
CREATED:20251121T030154Z
LAST-MODIFIED:20251121T030154Z
UID:5884-1769817600-1769903999@snoco4-hhorse.com
SUMMARY:Annual 4H Horse Program Awards
DESCRIPTION:Time TBD
URL:https://snoco4-hhorse.com/event/annual-4h-horse-program-awards/
LOCATION:Evergreen Fairgrounds 4-H Building\, Monroe\, WA\, 98272\, United States
END:VEVENT
BEGIN:VEVENT
DTSTART;TZID=UTC:20260130T180000
DTEND;TZID=UTC:20260130T200000
DTSTAMP:20260423T232813
CREATED:20251121T030039Z
LAST-MODIFIED:20251121T030039Z
UID:5882-1769796000-1769803200@snoco4-hhorse.com
SUMMARY:Hippology #1
DESCRIPTION:
URL:https://snoco4-hhorse.com/event/hippology-1/
LOCATION:Evergreen Fairgrounds 4-H Building\, Monroe\, WA\, 98272\, United States
END:VEVENT
BEGIN:VEVENT
DTSTART;TZID=UTC:20260128T180000
DTEND;TZID=UTC:20260128T200000
DTSTAMP:20260423T232813
CREATED:20251121T025936Z
LAST-MODIFIED:20251121T025936Z
UID:5880-1769623200-1769630400@snoco4-hhorse.com
SUMMARY:Ride Night
DESCRIPTION:
URL:https://snoco4-hhorse.com/event/ride-night-6/
LOCATION:Evergreen State Horse Park (Fairgrounds)\, 14405 179th Ave SE\, Monroe\, WA\, 98272
END:VEVENT
BEGIN:VEVENT
DTSTART;TZID=UTC:20260116T183000
DTEND;TZID=UTC:20260116T203000
DTSTAMP:20260423T232813
CREATED:20251121T025856Z
LAST-MODIFIED:20251121T025856Z
UID:5878-1768588200-1768595400@snoco4-hhorse.com
SUMMARY:Horse Bowl #3
DESCRIPTION:
URL:https://snoco4-hhorse.com/event/horse-bowl-3/
LOCATION:Evergreen Fairgrounds 4-H Building\, Monroe\, WA\, 98272\, United States
END:VEVENT
BEGIN:VEVENT
DTSTART;TZID=UTC:20260115T183000
DTEND;TZID=UTC:20260115T193000
DTSTAMP:20260423T232813
CREATED:20251121T025802Z
LAST-MODIFIED:20251121T025802Z
UID:5876-1768501800-1768505400@snoco4-hhorse.com
SUMMARY:Horse Program Meeting
DESCRIPTION:
URL:https://snoco4-hhorse.com/event/horse-program-meeting/
LOCATION:Good Shepherd Lutheran Church\, 5511 64th Street SE\, Snohomish\, WA\, 98290\, United States
END:VEVENT
BEGIN:VEVENT
DTSTART;TZID=UTC:20260114T180000
DTEND;TZID=UTC:20260114T200000
DTSTAMP:20260423T232813
CREATED:20251121T025631Z
LAST-MODIFIED:20251121T025631Z
UID:5874-1768413600-1768420800@snoco4-hhorse.com
SUMMARY:Ride Night
DESCRIPTION:
URL:https://snoco4-hhorse.com/event/ride-night-5/
LOCATION:Evergreen State Horse Park (Fairgrounds)\, 14405 179th Ave SE\, Monroe\, WA\, 98272
END:VEVENT
BEGIN:VEVENT
DTSTART;VALUE=DATE:20260103
DTEND;VALUE=DATE:20260104
DTSTAMP:20260423T232813
CREATED:20251121T025521Z
LAST-MODIFIED:20251121T025521Z
UID:5872-1767398400-1767484799@snoco4-hhorse.com
SUMMARY:Clinics
DESCRIPTION:CLINICS AT THE FAIRGROUNDS!  FREE!  Local Professionals donating their time! Save the Date!
URL:https://snoco4-hhorse.com/event/clinics/
LOCATION:Evergreen State Horse Park (Fairgrounds)\, 14405 179th Ave SE\, Monroe\, WA\, 98272
END:VEVENT
BEGIN:VEVENT
DTSTART;TZID=UTC:20251230T180000
DTEND;TZID=UTC:20251230T200000
DTSTAMP:20260423T232813
CREATED:20251121T025308Z
LAST-MODIFIED:20251121T025308Z
UID:5870-1767117600-1767124800@snoco4-hhorse.com
SUMMARY:Ride Night
DESCRIPTION:
URL:https://snoco4-hhorse.com/event/ride-night-4/
LOCATION:Evergreen State Horse Park (Fairgrounds)\, 14405 179th Ave SE\, Monroe\, WA\, 98272
END:VEVENT
BEGIN:VEVENT
DTSTART;TZID=UTC:20251216T180000
DTEND;TZID=UTC:20251216T200000
DTSTAMP:20260423T232813
CREATED:20251121T025231Z
LAST-MODIFIED:20251121T025231Z
UID:5868-1765908000-1765915200@snoco4-hhorse.com
SUMMARY:Ride Night
DESCRIPTION:
URL:https://snoco4-hhorse.com/event/ride-night-3/
LOCATION:Evergreen State Horse Park (Fairgrounds)\, 14405 179th Ave SE\, Monroe\, WA\, 98272
END:VEVENT
BEGIN:VEVENT
DTSTART;TZID=UTC:20251213T100000
DTEND;TZID=UTC:20251213T150000
DTSTAMP:20260423T232813
CREATED:20251121T025133Z
LAST-MODIFIED:20251121T025133Z
UID:5866-1765620000-1765638000@snoco4-hhorse.com
SUMMARY:Youth Leadership Conference
DESCRIPTION:YOUTH LEADERSHIP CONFERENCE 10am-3:00pm At WSU’s Everett campus!  Free! \nFor Juniors\, Intermediates and Seniors…-includes Club Officer Training!
URL:https://snoco4-hhorse.com/event/youth-leadership-conference/
LOCATION:WSU Everett Campus\, 915 N Broadway\, Everett\, WA\, 98201\, United States
END:VEVENT
BEGIN:VEVENT
DTSTART;TZID=UTC:20251212T180000
DTEND;TZID=UTC:20251212T200000
DTSTAMP:20260423T232813
CREATED:20251121T023957Z
LAST-MODIFIED:20251121T023957Z
UID:5864-1765562400-1765569600@snoco4-hhorse.com
SUMMARY:Horse Bowl #2
DESCRIPTION:This will be held in the display hall
URL:https://snoco4-hhorse.com/event/horse-bowl-2/
LOCATION:Evergreen Fairgrounds 4-H Building\, Monroe\, WA\, 98272\, United States
END:VEVENT
END:VCALENDAR