BEGIN:VCALENDAR
VERSION:2.0
PRODID:-// - ECPv6.13.2.1//NONSGML v1.0//EN
CALSCALE:GREGORIAN
METHOD:PUBLISH
X-ORIGINAL-URL:https://snoco4-hhorse.com
X-WR-CALDESC:Events for 
REFRESH-INTERVAL;VALUE=DURATION:PT1H
X-Robots-Tag:noindex
X-PUBLISHED-TTL:PT1H
BEGIN:VTIMEZONE
TZID:UTC
BEGIN:STANDARD
TZOFFSETFROM:+0000
TZOFFSETTO:+0000
TZNAME:UTC
DTSTART:20260101T000000
END:STANDARD
END:VTIMEZONE
BEGIN:VEVENT
DTSTART;VALUE=DATE:20260425
DTEND;VALUE=DATE:20260426
DTSTAMP:20260423T185403
CREATED:20260210T040013Z
LAST-MODIFIED:20260210T040013Z
UID:5960-1777075200-1777161599@snoco4-hhorse.com
SUMMARY:County 4H Equine Presentations Contest
DESCRIPTION:COUNTY 4-H EQUINE PRESENTATIONS CONTEST –(Intermediates and Seniors) \nPre-Registration required – Watch Facebook \nTime TBD Good Shepherd Lutheran Church\, 5511 64th ST SE\, Snohomish
URL:https://snoco4-hhorse.com/event/county-4h-equine-presentations-contest/
LOCATION:Good Shepherd Lutheran Church\, 5511 64th Street SE\, Snohomish\, WA\, 98290\, United States
END:VEVENT
END:VCALENDAR