BEGIN:VCALENDAR
VERSION:2.0
PRODID:-// - ECPv6.13.2.1//NONSGML v1.0//EN
CALSCALE:GREGORIAN
METHOD:PUBLISH
X-ORIGINAL-URL:https://snoco4-hhorse.com
X-WR-CALDESC:Events for 
REFRESH-INTERVAL;VALUE=DURATION:PT1H
X-Robots-Tag:noindex
X-PUBLISHED-TTL:PT1H
BEGIN:VTIMEZONE
TZID:UTC
BEGIN:STANDARD
TZOFFSETFROM:+0000
TZOFFSETTO:+0000
TZNAME:UTC
DTSTART:20260101T000000
END:STANDARD
END:VTIMEZONE
BEGIN:VEVENT
DTSTART;TZID=UTC:20260416T183000
DTEND;TZID=UTC:20260416T200000
DTSTAMP:20260423T185300
CREATED:20260210T035632Z
LAST-MODIFIED:20260210T035632Z
UID:5953-1776364200-1776369600@snoco4-hhorse.com
SUMMARY:Horse Program Meeting
DESCRIPTION:Watch Facebook for the link.
URL:https://snoco4-hhorse.com/event/horse-program-meeting-3/
LOCATION:Good Shepherd Lutheran Church\, 5511 64th Street SE\, Snohomish\, WA\, 98290\, United States
END:VEVENT
END:VCALENDAR