BEGIN:VCALENDAR
VERSION:2.0
PRODID:-// - ECPv6.13.2.1//NONSGML v1.0//EN
CALSCALE:GREGORIAN
METHOD:PUBLISH
X-ORIGINAL-URL:https://snoco4-hhorse.com
X-WR-CALDESC:Events for 
REFRESH-INTERVAL;VALUE=DURATION:PT1H
X-Robots-Tag:noindex
X-PUBLISHED-TTL:PT1H
BEGIN:VTIMEZONE
TZID:UTC
BEGIN:STANDARD
TZOFFSETFROM:+0000
TZOFFSETTO:+0000
TZNAME:UTC
DTSTART:20250101T000000
END:STANDARD
END:VTIMEZONE
BEGIN:VEVENT
DTSTART;VALUE=DATE:20251003
DTEND;VALUE=DATE:20251006
DTSTAMP:20260424T083227
CREATED:20240602T133409Z
LAST-MODIFIED:20240602T133409Z
UID:5158-1759449600-1759708799@snoco4-hhorse.com
SUMMARY:Fall Performance Show
DESCRIPTION:
URL:https://snoco4-hhorse.com/event/fall-performance-show/
LOCATION:Evergreen State Horse Park (Fairgrounds)\, 14405 179th Ave SE\, Monroe\, WA\, 98272
END:VEVENT
END:VCALENDAR